BEGIN:VCALENDAR
VERSION:2.0
PRODID:-//TMIopenCommunity Events 5.0.13//EN
METHOD:PUBLISH
CALSCALE:GREGORIAN
REFRESH-INTERVAL:PT15M
X-PUBLISHED-TTL:PT15M
X-WR-CALNAME:Календарь Herona
NAME:Календарь Herona
BEGIN:VTIMEZONE
TZID:Europe/London
TZURL:https://tzurl.org/zoneinfo/Europe/London
X-LIC-LOCATION:Europe/London
BEGIN:DAYLIGHT
TZOFFSETFROM:+0000
TZOFFSETTO:+0100
TZNAME:BST
DTSTART:20250330T020000Z
RRULE:FREQ=YEARLY;BYMONTH=3;BYDAY=-1SU
END:DAYLIGHT
BEGIN:STANDARD
TZOFFSETFROM:+0100
TZOFFSETTO:+0000
TZNAME:GMT
DTSTART:20251026T020000Z
RRULE:FREQ=YEARLY;BYMONTH=10;BYDAY=-1SU
END:STANDARD
END:VTIMEZONE
BEGIN:VEVENT
SUMMARY:🎁🎅🏼🎄🌟☃️ Новый год!
DTSTAMP:20251220T213750Z
SEQUENCE:0
UID:1-1-ebbb4e8e5c0c64bfa0772de3ffee32a0@herona.top
ORGANIZER;CN="Maximus":herona@itishkin.com
DESCRIPTION:Новый год — э
	то время\, когда
	 можно начать с
	 чистого листа
	. Блеск гирлянд
	\, запах мандари
	нов\, загадыва
	ние желаний п
	од бой куранто
	в и ощущение\,
	 что впереди о
	бязательно буд
	ет что-то хороше
	е. Праздник на
	дежд\, теплых в
	стреч\, красивых 
	традиций и маленьких чудес — даже дл
	я тех\, кто в них не верит.
DTSTART:20251231T205900Z
RRULE:FREQ=YEARLY;INTERVAL=1
END:VEVENT
END:VCALENDAR
